BEGIN:VCALENDAR
VERSION:2.0
PRODID:-//Fastnacht in Königstein = Die Plaschis - ECPv6.15.18//NONSGML v1.0//EN
CALSCALE:GREGORIAN
METHOD:PUBLISH
X-WR-CALNAME:Fastnacht in Königstein = Die Plaschis
X-ORIGINAL-URL:https://plaschis.de
X-WR-CALDESC:Veranstaltungen für Fastnacht in Königstein = Die Plaschis
REFRESH-INTERVAL;VALUE=DURATION:PT1H
X-Robots-Tag:noindex
X-PUBLISHED-TTL:PT1H
BEGIN:VTIMEZONE
TZID:Europe/Berlin
BEGIN:DAYLIGHT
TZOFFSETFROM:+0100
TZOFFSETTO:+0200
TZNAME:CEST
DTSTART:20250330T010000
END:DAYLIGHT
BEGIN:STANDARD
TZOFFSETFROM:+0200
TZOFFSETTO:+0100
TZNAME:CET
DTSTART:20251026T010000
END:STANDARD
BEGIN:DAYLIGHT
TZOFFSETFROM:+0100
TZOFFSETTO:+0200
TZNAME:CEST
DTSTART:20260329T010000
END:DAYLIGHT
BEGIN:STANDARD
TZOFFSETFROM:+0200
TZOFFSETTO:+0100
TZNAME:CET
DTSTART:20261025T010000
END:STANDARD
BEGIN:DAYLIGHT
TZOFFSETFROM:+0100
TZOFFSETTO:+0200
TZNAME:CEST
DTSTART:20270328T010000
END:DAYLIGHT
BEGIN:STANDARD
TZOFFSETFROM:+0200
TZOFFSETTO:+0100
TZNAME:CET
DTSTART:20271031T010000
END:STANDARD
END:VTIMEZONE
BEGIN:VEVENT
DTSTART;TZID=Europe/Berlin:20260426T100000
DTEND;TZID=Europe/Berlin:20260426T180000
DTSTAMP:20260426T012926
CREATED:20231220T020546Z
LAST-MODIFIED:20260113T130053Z
UID:10001141-1777197600-1777226400@plaschis.de
SUMMARY:Die Plaschis beim Königsteiner Benefizlauf
DESCRIPTION:Wir freuen uns auf unsere beiden Stände beim Königsteiner Benefizlauf und möchten Euch herzlich einladen\, uns am Essensstand oder der Getränkegondel tatkräftig zu unterstützen. Ihr könnt den Schichtplan einsehen und Euch im beigefügten Formular für Eure gewünschte Zeit eintragen\, damit wir gemeinsam einen reibungslosen Ablauf gewährleisten können.
URL:https://plaschis.de/termin/benefizlauf2024/2026-04-26/
LOCATION:Kurpark Königstein\, Hauptstraße 21c\, Königstein im Taunus\, Hessen\, 61462\, Germany
CATEGORIES:Öffentliche Veranstaltung
ORGANIZER;CN="K%C3%B6nigsteiner Narrenclub 1971/79 e.V. 'Die Plasterschisser'":MAILTO:info@plaschis.de
END:VEVENT
END:VCALENDAR